BEGIN:VCALENDAR
VERSION:2.0
PRODID:-//Choptank River Yacht Club - ECPv6.13.2.1//NONSGML v1.0//EN
CALSCALE:GREGORIAN
METHOD:PUBLISH
X-WR-CALNAME:Choptank River Yacht Club
X-ORIGINAL-URL:https://carolinecryc.com
X-WR-CALDESC:Events for Choptank River Yacht Club
REFRESH-INTERVAL;VALUE=DURATION:PT1H
X-Robots-Tag:noindex
X-PUBLISHED-TTL:PT1H
BEGIN:VTIMEZONE
TZID:America/New_York
BEGIN:DAYLIGHT
TZOFFSETFROM:-0500
TZOFFSETTO:-0400
TZNAME:EDT
DTSTART:20240310T070000
END:DAYLIGHT
BEGIN:STANDARD
TZOFFSETFROM:-0400
TZOFFSETTO:-0500
TZNAME:EST
DTSTART:20241103T060000
END:STANDARD
END:VTIMEZONE
BEGIN:VEVENT
DTSTART;TZID=America/New_York:20240803T120000
DTEND;TZID=America/New_York:20240803T120000
DTSTAMP:20260425T071034
CREATED:20240313T192114Z
LAST-MODIFIED:20240313T192114Z
UID:3174-1722686400-1722686400@carolinecryc.com
SUMMARY:Private Party
DESCRIPTION:Private Party
URL:https://carolinecryc.com/event/private-party-178/
END:VEVENT
BEGIN:VEVENT
DTSTART;VALUE=DATE:20240727
DTEND;VALUE=DATE:20240728
DTSTAMP:20260425T071034
CREATED:20240702T185052Z
LAST-MODIFIED:20240702T185052Z
UID:3287-1722038400-1722124799@carolinecryc.com
SUMMARY:Seafood Boil
DESCRIPTION:
URL:https://carolinecryc.com/event/seafood-boil-3/
END:VEVENT
BEGIN:VEVENT
DTSTART;TZID=America/New_York:20240703T190000
DTEND;TZID=America/New_York:20240703T190000
DTSTAMP:20260425T071034
CREATED:20231206T142650Z
LAST-MODIFIED:20231206T142650Z
UID:3001-1720033200-1720033200@carolinecryc.com
SUMMARY:General Membership Meeting @7
DESCRIPTION:General Membership Meeting @7
URL:https://carolinecryc.com/event/general-membership-meeting-7-7/
END:VEVENT
BEGIN:VEVENT
DTSTART;TZID=America/New_York:20240622T120000
DTEND;TZID=America/New_York:20240622T120000
DTSTAMP:20260425T071034
CREATED:20240313T192047Z
LAST-MODIFIED:20240313T192047Z
UID:3172-1719057600-1719057600@carolinecryc.com
SUMMARY:Private Party
DESCRIPTION:Private Party
URL:https://carolinecryc.com/event/private-party-177/
END:VEVENT
BEGIN:VEVENT
DTSTART;TZID=America/New_York:20240615T140000
DTEND;TZID=America/New_York:20240615T140000
DTSTAMP:20260425T071034
CREATED:20240313T192024Z
LAST-MODIFIED:20240313T192024Z
UID:3170-1718460000-1718460000@carolinecryc.com
SUMMARY:Private Party
DESCRIPTION:Private Party
URL:https://carolinecryc.com/event/private-party-176/
END:VEVENT
BEGIN:VEVENT
DTSTART;TZID=America/New_York:20240609T120000
DTEND;TZID=America/New_York:20240609T120000
DTSTAMP:20260425T071034
CREATED:20240313T192005Z
LAST-MODIFIED:20240313T192005Z
UID:3168-1717934400-1717934400@carolinecryc.com
SUMMARY:Private Party
DESCRIPTION:Private Party
URL:https://carolinecryc.com/event/private-party-175/
END:VEVENT
BEGIN:VEVENT
DTSTART;TZID=America/New_York:20240608T140000
DTEND;TZID=America/New_York:20240608T170000
DTSTAMP:20260425T071034
CREATED:20240313T191909Z
LAST-MODIFIED:20240313T191909Z
UID:3164-1717855200-1717866000@carolinecryc.com
SUMMARY:Private Party
DESCRIPTION:Private Party
URL:https://carolinecryc.com/event/private-party-174/
END:VEVENT
BEGIN:VEVENT
DTSTART;VALUE=DATE:20240608
DTEND;VALUE=DATE:20240609
DTSTAMP:20260425T071034
CREATED:20240313T191930Z
LAST-MODIFIED:20240507T171240Z
UID:3166-1717804800-1717891199@carolinecryc.com
SUMMARY:Belmont Stakes & Rubber Ducky Race
DESCRIPTION:
URL:https://carolinecryc.com/event/belmont-stakes/
END:VEVENT
BEGIN:VEVENT
DTSTART;TZID=America/New_York:20240605T190000
DTEND;TZID=America/New_York:20240605T190000
DTSTAMP:20260425T071035
CREATED:20231206T142636Z
LAST-MODIFIED:20231206T142636Z
UID:2999-1717614000-1717614000@carolinecryc.com
SUMMARY:General Membership Meeting @7
DESCRIPTION:General Membership Meeting @7
URL:https://carolinecryc.com/event/general-membership-meeting-7-6/
END:VEVENT
BEGIN:VEVENT
DTSTART;TZID=America/New_York:20240601T120000
DTEND;TZID=America/New_York:20240601T120000
DTSTAMP:20260425T071035
CREATED:20240313T191846Z
LAST-MODIFIED:20240313T191846Z
UID:3162-1717243200-1717243200@carolinecryc.com
SUMMARY:Private Party
DESCRIPTION:Private Party
URL:https://carolinecryc.com/event/private-party-173/
END:VEVENT
BEGIN:VEVENT
DTSTART;TZID=America/New_York:20240531T170000
DTEND;TZID=America/New_York:20240531T170000
DTSTAMP:20260425T071035
CREATED:20240418T182033Z
LAST-MODIFIED:20240418T182033Z
UID:3222-1717174800-1717174800@carolinecryc.com
SUMMARY:Private Party
DESCRIPTION:Private Party
URL:https://carolinecryc.com/event/private-party-184/
END:VEVENT
BEGIN:VEVENT
DTSTART;VALUE=DATE:20240526
DTEND;VALUE=DATE:20240527
DTSTAMP:20260425T071035
CREATED:20240313T191825Z
LAST-MODIFIED:20240524T164620Z
UID:3160-1716681600-1716767999@carolinecryc.com
SUMMARY:Summer Kick Off Party
DESCRIPTION:
URL:https://carolinecryc.com/event/summer-kick-off-party/
END:VEVENT
BEGIN:VEVENT
DTSTART;VALUE=DATE:20240518
DTEND;VALUE=DATE:20240519
DTSTAMP:20260425T071035
CREATED:20240313T191746Z
LAST-MODIFIED:20240507T171203Z
UID:3158-1715990400-1716076799@carolinecryc.com
SUMMARY:Preakness Party & Decoy Race
DESCRIPTION:
URL:https://carolinecryc.com/event/preakness/
END:VEVENT
BEGIN:VEVENT
DTSTART;VALUE=DATE:20240505
DTEND;VALUE=DATE:20240506
DTSTAMP:20260425T071035
CREATED:20240313T191728Z
LAST-MODIFIED:20240425T154102Z
UID:3156-1714867200-1714953599@carolinecryc.com
SUMMARY:Cinco De Mayo Party
DESCRIPTION:
URL:https://carolinecryc.com/event/cinco-de-mayo-party/
END:VEVENT
BEGIN:VEVENT
DTSTART;VALUE=DATE:20240504
DTEND;VALUE=DATE:20240505
DTSTAMP:20260425T071035
CREATED:20240313T191700Z
LAST-MODIFIED:20240424T130259Z
UID:3154-1714780800-1714867199@carolinecryc.com
SUMMARY:Kentucky Derby
DESCRIPTION:
URL:https://carolinecryc.com/event/kentucky-derby/
END:VEVENT
BEGIN:VEVENT
DTSTART;TZID=America/New_York:20240501T190000
DTEND;TZID=America/New_York:20240501T190000
DTSTAMP:20260425T071035
CREATED:20231206T142501Z
LAST-MODIFIED:20231206T142501Z
UID:2997-1714590000-1714590000@carolinecryc.com
SUMMARY:General Membership Meeting @7
DESCRIPTION:General Membership Meeting @7
URL:https://carolinecryc.com/event/general-membership-meeting-7-5/
END:VEVENT
BEGIN:VEVENT
DTSTART;TZID=America/New_York:20240428T120000
DTEND;TZID=America/New_York:20240428T120000
DTSTAMP:20260425T071035
CREATED:20240313T191543Z
LAST-MODIFIED:20240313T191543Z
UID:3152-1714305600-1714305600@carolinecryc.com
SUMMARY:Private Party
DESCRIPTION:Private Party
URL:https://carolinecryc.com/event/private-party-172/
END:VEVENT
BEGIN:VEVENT
DTSTART;VALUE=DATE:20240427
DTEND;VALUE=DATE:20240428
DTSTAMP:20260425T071035
CREATED:20240313T191516Z
LAST-MODIFIED:20240326T191729Z
UID:3150-1714176000-1714262399@carolinecryc.com
SUMMARY:Cornhole for Chelsey
DESCRIPTION:
URL:https://carolinecryc.com/event/cornhole-for-chelsey/
END:VEVENT
BEGIN:VEVENT
DTSTART;TZID=America/New_York:20240421T120000
DTEND;TZID=America/New_York:20240421T120000
DTSTAMP:20260425T071035
CREATED:20240313T191442Z
LAST-MODIFIED:20240313T191442Z
UID:3148-1713700800-1713700800@carolinecryc.com
SUMMARY:Private Party
DESCRIPTION:Private Party
URL:https://carolinecryc.com/event/private-party-171/
END:VEVENT
BEGIN:VEVENT
DTSTART;VALUE=DATE:20240420
DTEND;VALUE=DATE:20240421
DTSTAMP:20260425T071035
CREATED:20240326T130640Z
LAST-MODIFIED:20240326T130640Z
UID:3195-1713571200-1713657599@carolinecryc.com
SUMMARY:Shake Down Cruise
DESCRIPTION:
URL:https://carolinecryc.com/event/shake-down-cruise-7/
END:VEVENT
BEGIN:VEVENT
DTSTART;TZID=America/New_York:20240418T183000
DTEND;TZID=America/New_York:20240418T183000
DTSTAMP:20260425T071035
CREATED:20240326T133920Z
LAST-MODIFIED:20240326T133920Z
UID:3202-1713465000-1713465000@carolinecryc.com
SUMMARY:Event Committee Meeting
DESCRIPTION:Event Committee Meeting @ 6:30
URL:https://carolinecryc.com/event/event-committee-meeting-9/
END:VEVENT
BEGIN:VEVENT
DTSTART;TZID=America/New_York:20240413T170000
DTEND;TZID=America/New_York:20240413T170000
DTSTAMP:20260425T071035
CREATED:20240326T133854Z
LAST-MODIFIED:20240326T133854Z
UID:3200-1713027600-1713027600@carolinecryc.com
SUMMARY:Private Party
DESCRIPTION:Private Party
URL:https://carolinecryc.com/event/private-party-183/
END:VEVENT
BEGIN:VEVENT
DTSTART;TZID=America/New_York:20240406T130000
DTEND;TZID=America/New_York:20240406T130000
DTSTAMP:20260425T071035
CREATED:20240313T175926Z
LAST-MODIFIED:20240313T175926Z
UID:3146-1712408400-1712408400@carolinecryc.com
SUMMARY:Private Party
DESCRIPTION:Private Party
URL:https://carolinecryc.com/event/private-party-170/
END:VEVENT
BEGIN:VEVENT
DTSTART;VALUE=DATE:20240406
DTEND;VALUE=DATE:20240407
DTSTAMP:20260425T071035
CREATED:20240326T133758Z
LAST-MODIFIED:20240326T133758Z
UID:3198-1712361600-1712447999@carolinecryc.com
SUMMARY:CRYC Clean Up Day
DESCRIPTION:Day for members to help to some needed upkeep and cleaning at CRYC. Details TBD
URL:https://carolinecryc.com/event/cryc-clean-up-day/
END:VEVENT
BEGIN:VEVENT
DTSTART;TZID=America/New_York:20240403T190000
DTEND;TZID=America/New_York:20240403T190000
DTSTAMP:20260425T071035
CREATED:20231206T142447Z
LAST-MODIFIED:20231206T142447Z
UID:2995-1712170800-1712170800@carolinecryc.com
SUMMARY:General Membership Meeting @7
DESCRIPTION:General Membership Meeting @7
URL:https://carolinecryc.com/event/general-membership-meeting-7-4/
END:VEVENT
BEGIN:VEVENT
DTSTART;TZID=America/New_York:20240330T140000
DTEND;TZID=America/New_York:20240330T140000
DTSTAMP:20260425T071035
CREATED:20240313T175526Z
LAST-MODIFIED:20240313T175526Z
UID:3144-1711807200-1711807200@carolinecryc.com
SUMMARY:Private Party
DESCRIPTION:Private Party
URL:https://carolinecryc.com/event/private-party-169/
END:VEVENT
BEGIN:VEVENT
DTSTART;VALUE=DATE:20240329
DTEND;VALUE=DATE:20240330
DTSTAMP:20260425T071035
CREATED:20240201T165732Z
LAST-MODIFIED:20240208T154659Z
UID:3094-1711670400-1711756799@carolinecryc.com
SUMMARY:Annual Cake Auction
DESCRIPTION:
URL:https://carolinecryc.com/event/annual-cake-auction/
END:VEVENT
BEGIN:VEVENT
DTSTART;TZID=America/New_York:20240326T180000
DTEND;TZID=America/New_York:20240326T180000
DTSTAMP:20260425T071035
CREATED:20240313T175325Z
LAST-MODIFIED:20240313T175325Z
UID:3142-1711476000-1711476000@carolinecryc.com
SUMMARY:Sound Bath with Barbie Mann
DESCRIPTION:Sound Bath with Barbie Mann
URL:https://carolinecryc.com/event/sound-bath-with-barbie-mann/
END:VEVENT
BEGIN:VEVENT
DTSTART;VALUE=DATE:20240323
DTEND;VALUE=DATE:20240324
DTSTAMP:20260425T071035
CREATED:20240201T165831Z
LAST-MODIFIED:20240304T180630Z
UID:3096-1711152000-1711238399@carolinecryc.com
SUMMARY:Easter Egg Hunts - Adult & Kids
DESCRIPTION:
URL:https://carolinecryc.com/event/easter-egg-hunts-adult-kids/
END:VEVENT
BEGIN:VEVENT
DTSTART;TZID=America/New_York:20240322T170000
DTEND;TZID=America/New_York:20240322T170000
DTSTAMP:20260425T071035
CREATED:20240313T175248Z
LAST-MODIFIED:20240313T175248Z
UID:3140-1711126800-1711126800@carolinecryc.com
SUMMARY:Private Party
DESCRIPTION:Private Party
URL:https://carolinecryc.com/event/private-party-168/
END:VEVENT
END:VCALENDAR