BEGIN:VCALENDAR
VERSION:2.0
PRODID:-//Choptank River Yacht Club - ECPv6.13.2.1//NONSGML v1.0//EN
CALSCALE:GREGORIAN
METHOD:PUBLISH
X-ORIGINAL-URL:https://carolinecryc.com
X-WR-CALDESC:Events for Choptank River Yacht Club
REFRESH-INTERVAL;VALUE=DURATION:PT1H
X-Robots-Tag:noindex
X-PUBLISHED-TTL:PT1H
BEGIN:VTIMEZONE
TZID:America/New_York
BEGIN:DAYLIGHT
TZOFFSETFROM:-0500
TZOFFSETTO:-0400
TZNAME:EDT
DTSTART:20260308T070000
END:DAYLIGHT
BEGIN:STANDARD
TZOFFSETFROM:-0400
TZOFFSETTO:-0500
TZNAME:EST
DTSTART:20261101T060000
END:STANDARD
END:VTIMEZONE
BEGIN:VEVENT
DTSTART;TZID=America/New_York:20260213T160000
DTEND;TZID=America/New_York:20260213T190000
DTSTAMP:20260424T224805
CREATED:20260209T182716Z
LAST-MODIFIED:20260209T182716Z
UID:3675-1770998400-1771009200@carolinecryc.com
SUMMARY:Happy Hour
DESCRIPTION:
URL:https://carolinecryc.com/event/happy-hour-2/
END:VEVENT
BEGIN:VEVENT
DTSTART;TZID=America/New_York:20260213T190000
DTEND;TZID=America/New_York:20260213T220000
DTSTAMP:20260424T224805
CREATED:20260209T182548Z
LAST-MODIFIED:20260209T182632Z
UID:3672-1771009200-1771020000@carolinecryc.com
SUMMARY:Reagan Kent
DESCRIPTION:
URL:https://carolinecryc.com/event/happy-hour/
END:VEVENT
BEGIN:VEVENT
DTSTART;TZID=America/New_York:20260215T140000
DTEND;TZID=America/New_York:20260215T200000
DTSTAMP:20260424T224805
CREATED:20260209T182810Z
LAST-MODIFIED:20260209T182810Z
UID:3677-1771164000-1771185600@carolinecryc.com
SUMMARY:Chili Cook Off / Daytona 500
DESCRIPTION:
URL:https://carolinecryc.com/event/chili-cook-off-daytona-500/
END:VEVENT
BEGIN:VEVENT
DTSTART;TZID=America/New_York:20260224T190000
DTEND;TZID=America/New_York:20260224T220000
DTSTAMP:20260424T224805
CREATED:20260224T203203Z
LAST-MODIFIED:20260224T203203Z
UID:3722-1771959600-1771970400@carolinecryc.com
SUMMARY:Trivia
DESCRIPTION:
URL:https://carolinecryc.com/event/trivia-3/
END:VEVENT
BEGIN:VEVENT
DTSTART;TZID=America/New_York:20260227T190000
DTEND;TZID=America/New_York:20260227T220000
DTSTAMP:20260424T224805
CREATED:20260224T203054Z
LAST-MODIFIED:20260224T203054Z
UID:3720-1772218800-1772229600@carolinecryc.com
SUMMARY:DJ Tank
DESCRIPTION:
URL:https://carolinecryc.com/event/dj-tank/
END:VEVENT
BEGIN:VEVENT
DTSTART;TZID=America/New_York:20260228T170000
DTEND;TZID=America/New_York:20260228T220000
DTSTAMP:20260424T224805
CREATED:20260209T182929Z
LAST-MODIFIED:20260209T182929Z
UID:3679-1772298000-1772316000@carolinecryc.com
SUMMARY:Poker Tournament
DESCRIPTION:
URL:https://carolinecryc.com/event/poker-tournament-3/
END:VEVENT
BEGIN:VEVENT
DTSTART;TZID=America/New_York:20260304T190000
DTEND;TZID=America/New_York:20260304T200000
DTSTAMP:20260424T224805
CREATED:20260209T183019Z
LAST-MODIFIED:20260209T183019Z
UID:3681-1772650800-1772654400@carolinecryc.com
SUMMARY:General Membership Meeting
DESCRIPTION:
URL:https://carolinecryc.com/event/general-membership-meeting-83/
END:VEVENT
BEGIN:VEVENT
DTSTART;TZID=America/New_York:20260306T190000
DTEND;TZID=America/New_York:20260306T220000
DTSTAMP:20260424T224805
CREATED:20260224T203309Z
LAST-MODIFIED:20260224T203309Z
UID:3724-1772823600-1772834400@carolinecryc.com
SUMMARY:Trivia
DESCRIPTION:
URL:https://carolinecryc.com/event/trivia-4/
END:VEVENT
BEGIN:VEVENT
DTSTART;TZID=America/New_York:20260313T190000
DTEND;TZID=America/New_York:20260313T220000
DTSTAMP:20260424T224805
CREATED:20260224T203405Z
LAST-MODIFIED:20260224T203405Z
UID:3726-1773428400-1773439200@carolinecryc.com
SUMMARY:Hot Dog Gravy - live music
DESCRIPTION:
URL:https://carolinecryc.com/event/hot-dog-gravy-live-music/
END:VEVENT
BEGIN:VEVENT
DTSTART;TZID=America/New_York:20260321T160000
DTEND;TZID=America/New_York:20260321T220000
DTSTAMP:20260424T224805
CREATED:20260209T183110Z
LAST-MODIFIED:20260209T183110Z
UID:3683-1774108800-1774130400@carolinecryc.com
SUMMARY:Annual Fish Fry
DESCRIPTION:
URL:https://carolinecryc.com/event/annual-fish-fry-4/
END:VEVENT
BEGIN:VEVENT
DTSTART;TZID=America/New_York:20260326T140000
DTEND;TZID=America/New_York:20260326T190000
DTSTAMP:20260424T224805
CREATED:20260209T183450Z
LAST-MODIFIED:20260209T183450Z
UID:3691-1774533600-1774551600@carolinecryc.com
SUMMARY:Orioles Opening Day
DESCRIPTION:
URL:https://carolinecryc.com/event/orioles-opening-day/
END:VEVENT
BEGIN:VEVENT
DTSTART;TZID=America/New_York:20260328T130000
DTEND;TZID=America/New_York:20260328T170000
DTSTAMP:20260424T224805
CREATED:20260209T183204Z
LAST-MODIFIED:20260209T183204Z
UID:3685-1774702800-1774717200@carolinecryc.com
SUMMARY:Easter Egg Hunt
DESCRIPTION:
URL:https://carolinecryc.com/event/easter-egg-hunt-2/
END:VEVENT
BEGIN:VEVENT
DTSTART;TZID=America/New_York:20260401T190000
DTEND;TZID=America/New_York:20260401T200000
DTSTAMP:20260424T224805
CREATED:20260209T183309Z
LAST-MODIFIED:20260209T183309Z
UID:3687-1775070000-1775073600@carolinecryc.com
SUMMARY:General Membership Meeting
DESCRIPTION:
URL:https://carolinecryc.com/event/general-membership-meeting-84/
END:VEVENT
BEGIN:VEVENT
DTSTART;TZID=America/New_York:20260403T170000
DTEND;TZID=America/New_York:20260403T220000
DTSTAMP:20260424T224805
CREATED:20260209T183359Z
LAST-MODIFIED:20260209T183359Z
UID:3689-1775235600-1775253600@carolinecryc.com
SUMMARY:Cake Auction / Crab Cake Dinner
DESCRIPTION:
URL:https://carolinecryc.com/event/cake-auction-crab-cake-dinner/
END:VEVENT
BEGIN:VEVENT
DTSTART;TZID=America/New_York:20260404T140000
DTEND;TZID=America/New_York:20260404T220000
DTSTAMP:20260424T224805
CREATED:20260224T203501Z
LAST-MODIFIED:20260224T203501Z
UID:3728-1775311200-1775340000@carolinecryc.com
SUMMARY:Private
DESCRIPTION:
URL:https://carolinecryc.com/event/private/
END:VEVENT
BEGIN:VEVENT
DTSTART;TZID=America/New_York:20260411T170000
DTEND;TZID=America/New_York:20260411T220000
DTSTAMP:20260424T224805
CREATED:20260224T203602Z
LAST-MODIFIED:20260224T203602Z
UID:3730-1775926800-1775944800@carolinecryc.com
SUMMARY:Private
DESCRIPTION:
URL:https://carolinecryc.com/event/private-2/
END:VEVENT
BEGIN:VEVENT
DTSTART;TZID=America/New_York:20260418T190000
DTEND;TZID=America/New_York:20260418T220000
DTSTAMP:20260424T224805
CREATED:20260224T203724Z
LAST-MODIFIED:20260224T203724Z
UID:3732-1776538800-1776549600@carolinecryc.com
SUMMARY:Karaoke
DESCRIPTION:
URL:https://carolinecryc.com/event/karaoke-2/
END:VEVENT
BEGIN:VEVENT
DTSTART;TZID=America/New_York:20260425T170000
DTEND;TZID=America/New_York:20260425T220000
DTSTAMP:20260424T224805
CREATED:20260224T203831Z
LAST-MODIFIED:20260224T203831Z
UID:3734-1777136400-1777154400@carolinecryc.com
SUMMARY:Pasta's Pasta & Martini Night
DESCRIPTION:
URL:https://carolinecryc.com/event/pastas-pasta-martini-night/
END:VEVENT
BEGIN:VEVENT
DTSTART;TZID=America/New_York:20260506T190000
DTEND;TZID=America/New_York:20260506T200000
DTSTAMP:20260424T224805
CREATED:20260209T183601Z
LAST-MODIFIED:20260209T183601Z
UID:3693-1778094000-1778097600@carolinecryc.com
SUMMARY:General Membership Meeting
DESCRIPTION:
URL:https://carolinecryc.com/event/general-membership-meeting-85/
END:VEVENT
BEGIN:VEVENT
DTSTART;TZID=America/New_York:20260524T120000
DTEND;TZID=America/New_York:20260524T190000
DTSTAMP:20260424T224805
CREATED:20260209T183653Z
LAST-MODIFIED:20260209T183653Z
UID:3695-1779624000-1779649200@carolinecryc.com
SUMMARY:Summer Kick Off Party / Poker Run
DESCRIPTION:
URL:https://carolinecryc.com/event/summer-kick-off-party-poker-run/
END:VEVENT
BEGIN:VEVENT
DTSTART;TZID=America/New_York:20260603T190000
DTEND;TZID=America/New_York:20260603T200000
DTSTAMP:20260424T224806
CREATED:20260209T183756Z
LAST-MODIFIED:20260209T183756Z
UID:3697-1780513200-1780516800@carolinecryc.com
SUMMARY:General Membership Meeting
DESCRIPTION:
URL:https://carolinecryc.com/event/general-membership-meeting-86/
END:VEVENT
BEGIN:VEVENT
DTSTART;TZID=America/New_York:20260620T120000
DTEND;TZID=America/New_York:20260620T190000
DTSTAMP:20260424T224806
CREATED:20260209T183852Z
LAST-MODIFIED:20260209T183852Z
UID:3699-1781956800-1781982000@carolinecryc.com
SUMMARY:Private Party
DESCRIPTION:
URL:https://carolinecryc.com/event/private-party-185/
END:VEVENT
BEGIN:VEVENT
DTSTART;TZID=America/New_York:20260701T190000
DTEND;TZID=America/New_York:20260701T200000
DTSTAMP:20260424T224806
CREATED:20260209T183946Z
LAST-MODIFIED:20260209T183946Z
UID:3701-1782932400-1782936000@carolinecryc.com
SUMMARY:General Membership Meeting
DESCRIPTION:
URL:https://carolinecryc.com/event/general-membership-meeting-87/
END:VEVENT
BEGIN:VEVENT
DTSTART;TZID=America/New_York:20260718T120000
DTEND;TZID=America/New_York:20260718T200000
DTSTAMP:20260424T224806
CREATED:20260209T181115Z
LAST-MODIFIED:20260209T182231Z
UID:3659-1784376000-1784404800@carolinecryc.com
SUMMARY:Private Party
DESCRIPTION:
URL:https://carolinecryc.com/event/general-membership-meeting-82/
END:VEVENT
BEGIN:VEVENT
DTSTART;TZID=America/New_York:20260718T120000
DTEND;TZID=America/New_York:20260718T220000
DTSTAMP:20260424T224806
CREATED:20260209T184028Z
LAST-MODIFIED:20260209T184028Z
UID:3703-1784376000-1784412000@carolinecryc.com
SUMMARY:Private Party
DESCRIPTION:
URL:https://carolinecryc.com/event/private-party-186/
END:VEVENT
BEGIN:VEVENT
DTSTART;TZID=America/New_York:20260805T190000
DTEND;TZID=America/New_York:20260805T200000
DTSTAMP:20260424T224806
CREATED:20260209T184118Z
LAST-MODIFIED:20260209T184118Z
UID:3705-1785956400-1785960000@carolinecryc.com
SUMMARY:General Membership Meeting
DESCRIPTION:
URL:https://carolinecryc.com/event/general-membership-meeting-88/
END:VEVENT
BEGIN:VEVENT
DTSTART;TZID=America/New_York:20260902T190000
DTEND;TZID=America/New_York:20260902T200000
DTSTAMP:20260424T224806
CREATED:20260209T184208Z
LAST-MODIFIED:20260209T184208Z
UID:3707-1788375600-1788379200@carolinecryc.com
SUMMARY:General Membership Meeting
DESCRIPTION:
URL:https://carolinecryc.com/event/general-membership-meeting-89/
END:VEVENT
BEGIN:VEVENT
DTSTART;TZID=America/New_York:20261007T190000
DTEND;TZID=America/New_York:20261007T200000
DTSTAMP:20260424T224806
CREATED:20260209T184240Z
LAST-MODIFIED:20260209T184240Z
UID:3709-1791399600-1791403200@carolinecryc.com
SUMMARY:General Membership Meeting
DESCRIPTION:
URL:https://carolinecryc.com/event/general-membership-meeting-90/
END:VEVENT
BEGIN:VEVENT
DTSTART;TZID=America/New_York:20261104T190000
DTEND;TZID=America/New_York:20261104T200000
DTSTAMP:20260424T224806
CREATED:20260209T184314Z
LAST-MODIFIED:20260209T184314Z
UID:3711-1793818800-1793822400@carolinecryc.com
SUMMARY:General Membership Meeting
DESCRIPTION:
URL:https://carolinecryc.com/event/general-membership-meeting-91/
END:VEVENT
BEGIN:VEVENT
DTSTART;TZID=America/New_York:20261202T190000
DTEND;TZID=America/New_York:20261202T200000
DTSTAMP:20260424T224806
CREATED:20260209T184350Z
LAST-MODIFIED:20260209T184350Z
UID:3713-1796238000-1796241600@carolinecryc.com
SUMMARY:General Membership Meeting
DESCRIPTION:
URL:https://carolinecryc.com/event/general-membership-meeting-92/
END:VEVENT
END:VCALENDAR