BEGIN:VCALENDAR
VERSION:2.0
PRODID:-//Choptank River Yacht Club - ECPv6.13.2.1//NONSGML v1.0//EN
CALSCALE:GREGORIAN
METHOD:PUBLISH
X-WR-CALNAME:Choptank River Yacht Club
X-ORIGINAL-URL:https://carolinecryc.com
X-WR-CALDESC:Events for Choptank River Yacht Club
REFRESH-INTERVAL;VALUE=DURATION:PT1H
X-Robots-Tag:noindex
X-PUBLISHED-TTL:PT1H
BEGIN:VTIMEZONE
TZID:America/New_York
BEGIN:DAYLIGHT
TZOFFSETFROM:-0500
TZOFFSETTO:-0400
TZNAME:EDT
DTSTART:20240310T070000
END:DAYLIGHT
BEGIN:STANDARD
TZOFFSETFROM:-0400
TZOFFSETTO:-0500
TZNAME:EST
DTSTART:20241103T060000
END:STANDARD
BEGIN:DAYLIGHT
TZOFFSETFROM:-0500
TZOFFSETTO:-0400
TZNAME:EDT
DTSTART:20250309T070000
END:DAYLIGHT
BEGIN:STANDARD
TZOFFSETFROM:-0400
TZOFFSETTO:-0500
TZNAME:EST
DTSTART:20251102T060000
END:STANDARD
END:VTIMEZONE
BEGIN:VEVENT
DTSTART;TZID=America/New_York:20251105T190000
DTEND;TZID=America/New_York:20251105T200000
DTSTAMP:20260425T063906
CREATED:20250206T171714Z
LAST-MODIFIED:20250206T171714Z
UID:3475-1762369200-1762372800@carolinecryc.com
SUMMARY:General Membership Meeting
DESCRIPTION:
URL:https://carolinecryc.com/event/general-membership-meeting-80/
END:VEVENT
BEGIN:VEVENT
DTSTART;TZID=America/New_York:20251001T190000
DTEND;TZID=America/New_York:20251001T200000
DTSTAMP:20260425T063906
CREATED:20250206T171643Z
LAST-MODIFIED:20250206T171643Z
UID:3473-1759345200-1759348800@carolinecryc.com
SUMMARY:General Membership Meeting
DESCRIPTION:
URL:https://carolinecryc.com/event/general-membership-meeting-79/
END:VEVENT
BEGIN:VEVENT
DTSTART;TZID=America/New_York:20250903T190000
DTEND;TZID=America/New_York:20250903T200000
DTSTAMP:20260425T063906
CREATED:20250206T171612Z
LAST-MODIFIED:20250206T171612Z
UID:3471-1756926000-1756929600@carolinecryc.com
SUMMARY:General Membership Meeting
DESCRIPTION:
URL:https://carolinecryc.com/event/general-membership-meeting-78/
END:VEVENT
BEGIN:VEVENT
DTSTART;TZID=America/New_York:20250806T190000
DTEND;TZID=America/New_York:20250806T200000
DTSTAMP:20260425T063906
CREATED:20250206T171541Z
LAST-MODIFIED:20250206T171541Z
UID:3469-1754506800-1754510400@carolinecryc.com
SUMMARY:General Membership Meeting
DESCRIPTION:
URL:https://carolinecryc.com/event/general-membership-meeting-77/
END:VEVENT
BEGIN:VEVENT
DTSTART;TZID=America/New_York:20250702T190000
DTEND;TZID=America/New_York:20250702T200000
DTSTAMP:20260425T063906
CREATED:20250206T171510Z
LAST-MODIFIED:20250206T171510Z
UID:3467-1751482800-1751486400@carolinecryc.com
SUMMARY:General Membership Meeting
DESCRIPTION:
URL:https://carolinecryc.com/event/general-membership-meeting-76/
END:VEVENT
BEGIN:VEVENT
DTSTART;TZID=America/New_York:20250604T190000
DTEND;TZID=America/New_York:20250604T200000
DTSTAMP:20260425T063906
CREATED:20250206T171437Z
LAST-MODIFIED:20250206T171437Z
UID:3465-1749063600-1749067200@carolinecryc.com
SUMMARY:General Membership Meeting
DESCRIPTION:
URL:https://carolinecryc.com/event/general-membership-meeting-75/
END:VEVENT
BEGIN:VEVENT
DTSTART;TZID=America/New_York:20250507T190000
DTEND;TZID=America/New_York:20250507T200000
DTSTAMP:20260425T063906
CREATED:20250206T171406Z
LAST-MODIFIED:20250206T171406Z
UID:3463-1746644400-1746648000@carolinecryc.com
SUMMARY:General Membership Meeting
DESCRIPTION:
URL:https://carolinecryc.com/event/general-membership-meeting-74/
END:VEVENT
BEGIN:VEVENT
DTSTART;TZID=America/New_York:20250402T190000
DTEND;TZID=America/New_York:20250402T200000
DTSTAMP:20260425T063906
CREATED:20250206T171328Z
LAST-MODIFIED:20250206T171328Z
UID:3461-1743620400-1743624000@carolinecryc.com
SUMMARY:General Membership Meeting
DESCRIPTION:
URL:https://carolinecryc.com/event/general-membership-meeting-73/
END:VEVENT
BEGIN:VEVENT
DTSTART;TZID=America/New_York:20250402T190000
DTEND;TZID=America/New_York:20250402T200000
DTSTAMP:20260425T063906
CREATED:20250206T171057Z
LAST-MODIFIED:20250206T171122Z
UID:3456-1743620400-1743624000@carolinecryc.com
SUMMARY:General Membership Meeting
DESCRIPTION:
URL:https://carolinecryc.com/event/general-membership-meeting-71/
END:VEVENT
BEGIN:VEVENT
DTSTART;TZID=America/New_York:20250315T160000
DTEND;TZID=America/New_York:20250315T190000
DTSTAMP:20260425T063906
CREATED:20250217T153921Z
LAST-MODIFIED:20250217T154025Z
UID:3486-1742054400-1742065200@carolinecryc.com
SUMMARY:Fish Fry
DESCRIPTION:
URL:https://carolinecryc.com/event/fish-fry/
END:VEVENT
BEGIN:VEVENT
DTSTART;TZID=America/New_York:20250309T100000
DTEND;TZID=America/New_York:20250309T120000
DTSTAMP:20260425T063906
CREATED:20250206T170102Z
LAST-MODIFIED:20250206T170102Z
UID:3453-1741514400-1741521600@carolinecryc.com
SUMMARY:Brunch
DESCRIPTION:
URL:https://carolinecryc.com/event/brunch/
END:VEVENT
BEGIN:VEVENT
DTSTART;TZID=America/New_York:20250305T190000
DTEND;TZID=America/New_York:20250305T200000
DTSTAMP:20260425T063906
CREATED:20250206T171247Z
LAST-MODIFIED:20250206T171247Z
UID:3459-1741201200-1741204800@carolinecryc.com
SUMMARY:General Membership Meeting
DESCRIPTION:
URL:https://carolinecryc.com/event/general-membership-meeting-72/
END:VEVENT
BEGIN:VEVENT
DTSTART;VALUE=DATE:20250223
DTEND;VALUE=DATE:20250224
DTSTAMP:20260425T063906
CREATED:20250109T004232Z
LAST-MODIFIED:20250109T004232Z
UID:3429-1740268800-1740355199@carolinecryc.com
SUMMARY:Redneck Triathlon
DESCRIPTION:
URL:https://carolinecryc.com/event/redneck-triathlon/
END:VEVENT
BEGIN:VEVENT
DTSTART;TZID=America/New_York:20250222T173000
DTEND;TZID=America/New_York:20250222T230000
DTSTAMP:20260425T063906
CREATED:20250206T165621Z
LAST-MODIFIED:20250206T165621Z
UID:3450-1740245400-1740265200@carolinecryc.com
SUMMARY:Poker Tournament
DESCRIPTION:
URL:https://carolinecryc.com/event/poker-tournament-2/
END:VEVENT
BEGIN:VEVENT
DTSTART;TZID=America/New_York:20250205T190000
DTEND;TZID=America/New_York:20250205T190000
DTSTAMP:20260425T063906
CREATED:20250109T004418Z
LAST-MODIFIED:20250109T004418Z
UID:3435-1738782000-1738782000@carolinecryc.com
SUMMARY:General Membership Meeting
DESCRIPTION:General Membership Meeting
URL:https://carolinecryc.com/event/general-membership-meeting-68/
END:VEVENT
BEGIN:VEVENT
DTSTART;VALUE=DATE:20250118
DTEND;VALUE=DATE:20250119
DTSTAMP:20260425T063906
CREATED:20250109T004333Z
LAST-MODIFIED:20250109T004333Z
UID:3432-1737158400-1737244799@carolinecryc.com
SUMMARY:Change of Watch
DESCRIPTION:
URL:https://carolinecryc.com/event/change-of-watch-4/
END:VEVENT
BEGIN:VEVENT
DTSTART;TZID=America/New_York:20241220T170000
DTEND;TZID=America/New_York:20241220T170000
DTSTAMP:20260425T063906
CREATED:20240313T192358Z
LAST-MODIFIED:20241115T194040Z
UID:3186-1734714000-1734714000@carolinecryc.com
SUMMARY:Private Party
DESCRIPTION:Private Party
URL:https://carolinecryc.com/event/private-party-182/
END:VEVENT
BEGIN:VEVENT
DTSTART;VALUE=DATE:20241214
DTEND;VALUE=DATE:20241215
DTSTAMP:20260425T063906
CREATED:20240930T175252Z
LAST-MODIFIED:20240930T175252Z
UID:3387-1734134400-1734220799@carolinecryc.com
SUMMARY:Breakfast with Santa
DESCRIPTION:Breakfast with Santa
URL:https://carolinecryc.com/event/breakfast-with-santa-4/
END:VEVENT
BEGIN:VEVENT
DTSTART;VALUE=DATE:20241207
DTEND;VALUE=DATE:20241208
DTSTAMP:20260425T063906
CREATED:20241115T194014Z
LAST-MODIFIED:20241115T194014Z
UID:3410-1733529600-1733615999@carolinecryc.com
SUMMARY:Artisan Festival and Boat Parade
DESCRIPTION:
URL:https://carolinecryc.com/event/artisan-festival-and-boat-parade/
END:VEVENT
BEGIN:VEVENT
DTSTART;TZID=America/New_York:20241204T190000
DTEND;TZID=America/New_York:20241204T190000
DTSTAMP:20260425T063906
CREATED:20231206T142819Z
LAST-MODIFIED:20231206T142819Z
UID:3013-1733338800-1733338800@carolinecryc.com
SUMMARY:General Membership Meeting @7
DESCRIPTION:General Membership Meeting @7
URL:https://carolinecryc.com/event/general-membership-meeting-7-13/
END:VEVENT
BEGIN:VEVENT
DTSTART;VALUE=DATE:20241130
DTEND;VALUE=DATE:20241201
DTSTAMP:20260425T063906
CREATED:20240930T175219Z
LAST-MODIFIED:20240930T175219Z
UID:3385-1732924800-1733011199@carolinecryc.com
SUMMARY:Karaoke by Johnny Jukebox
DESCRIPTION:Karaoke by Johnny Jukebox
URL:https://carolinecryc.com/event/karaoke-by-johnny-jukebox/
END:VEVENT
BEGIN:VEVENT
DTSTART;VALUE=DATE:20241122
DTEND;VALUE=DATE:20241123
DTSTAMP:20260425T063906
CREATED:20240930T175156Z
LAST-MODIFIED:20241115T192528Z
UID:3383-1732233600-1732319999@carolinecryc.com
SUMMARY:Trivia!
DESCRIPTION:
URL:https://carolinecryc.com/event/trivia-2/
END:VEVENT
BEGIN:VEVENT
DTSTART;VALUE=DATE:20241114
DTEND;VALUE=DATE:20241115
DTSTAMP:20260425T063906
CREATED:20240930T175140Z
LAST-MODIFIED:20240930T175140Z
UID:3381-1731542400-1731628799@carolinecryc.com
SUMMARY:Event Committee Meeting 6:30
DESCRIPTION:Event Committee Meeting 6:30
URL:https://carolinecryc.com/event/event-committee-meeting-630-3/
END:VEVENT
BEGIN:VEVENT
DTSTART;VALUE=DATE:20241110
DTEND;VALUE=DATE:20241111
DTSTAMP:20260425T063906
CREATED:20240930T175117Z
LAST-MODIFIED:20240930T175117Z
UID:3379-1731196800-1731283199@carolinecryc.com
SUMMARY:Friendsgiving!
DESCRIPTION:Friendsgiving!
URL:https://carolinecryc.com/event/friendsgiving-2/
END:VEVENT
BEGIN:VEVENT
DTSTART;VALUE=DATE:20241108
DTEND;VALUE=DATE:20241109
DTSTAMP:20260425T063906
CREATED:20240930T175042Z
LAST-MODIFIED:20240930T175042Z
UID:3377-1731024000-1731110399@carolinecryc.com
SUMMARY:Music by Reagan Kent
DESCRIPTION:Music by Reagan Kent from 7 – 10
URL:https://carolinecryc.com/event/music-by-reagan-kent/
END:VEVENT
BEGIN:VEVENT
DTSTART;TZID=America/New_York:20241106T190000
DTEND;TZID=America/New_York:20241106T190000
DTSTAMP:20260425T063906
CREATED:20231206T142750Z
LAST-MODIFIED:20240930T174935Z
UID:3009-1730919600-1730919600@carolinecryc.com
SUMMARY:General Membership Meeting @7
DESCRIPTION:General Membership Meeting @7 \nThis General Membership Meeting\, the voting for the possible by law changes will be open. The 2 proposals are as follows……. #1. Raising the annual dues to $300. #2. Raising the membership cap to 400 members\, along with an initiation fee of $1200. 
URL:https://carolinecryc.com/event/general-membership-meeting-7-11/
END:VEVENT
BEGIN:VEVENT
DTSTART;VALUE=DATE:20241103
DTEND;VALUE=DATE:20241104
DTSTAMP:20260425T063906
CREATED:20240930T175008Z
LAST-MODIFIED:20240930T175008Z
UID:3375-1730592000-1730678399@carolinecryc.com
SUMMARY:Sunday Brunch and Cornhole
DESCRIPTION:Sunday Brunch and Cornhole
URL:https://carolinecryc.com/event/sunday-brunch-and-cornhole/
END:VEVENT
BEGIN:VEVENT
DTSTART;VALUE=DATE:20241026
DTEND;VALUE=DATE:20241027
DTSTAMP:20260425T063906
CREATED:20240313T192336Z
LAST-MODIFIED:20240930T174800Z
UID:3184-1729900800-1729987199@carolinecryc.com
SUMMARY:Trunk or Treat / Adult Halloween Party
DESCRIPTION:
URL:https://carolinecryc.com/event/trunk-or-treat-adult-halloween-party/
END:VEVENT
BEGIN:VEVENT
DTSTART;VALUE=DATE:20241018
DTEND;VALUE=DATE:20241019
DTSTAMP:20260425T063906
CREATED:20240930T174659Z
LAST-MODIFIED:20240930T174659Z
UID:3369-1729209600-1729295999@carolinecryc.com
SUMMARY:Karaoke with Johnny Jukebox!
DESCRIPTION:Karaoke with Johnny Jukebox
URL:https://carolinecryc.com/event/karaoke-with-johnny-jukebox-2/
END:VEVENT
BEGIN:VEVENT
DTSTART;VALUE=DATE:20241017
DTEND;VALUE=DATE:20241018
DTSTAMP:20260425T063906
CREATED:20240930T174628Z
LAST-MODIFIED:20240930T174628Z
UID:3367-1729123200-1729209599@carolinecryc.com
SUMMARY:Event Committee Meeting 6:30
DESCRIPTION:Event Committee Meeting 6:30
URL:https://carolinecryc.com/event/event-committee-meeting-630-2/
END:VEVENT
END:VCALENDAR