BEGIN:VCALENDAR
VERSION:2.0
PRODID:-//Choptank River Yacht Club - ECPv6.13.2.1//NONSGML v1.0//EN
CALSCALE:GREGORIAN
METHOD:PUBLISH
X-WR-CALNAME:Choptank River Yacht Club
X-ORIGINAL-URL:https://carolinecryc.com
X-WR-CALDESC:Events for Choptank River Yacht Club
REFRESH-INTERVAL;VALUE=DURATION:PT1H
X-Robots-Tag:noindex
X-PUBLISHED-TTL:PT1H
BEGIN:VTIMEZONE
TZID:America/New_York
BEGIN:DAYLIGHT
TZOFFSETFROM:-0500
TZOFFSETTO:-0400
TZNAME:EDT
DTSTART:20260308T070000
END:DAYLIGHT
BEGIN:STANDARD
TZOFFSETFROM:-0400
TZOFFSETTO:-0500
TZNAME:EST
DTSTART:20261101T060000
END:STANDARD
END:VTIMEZONE
BEGIN:VEVENT
DTSTART;TZID=America/New_York:20260425T170000
DTEND;TZID=America/New_York:20260425T220000
DTSTAMP:20260423T074503
CREATED:20260224T203831Z
LAST-MODIFIED:20260224T203831Z
UID:3734-1777136400-1777154400@carolinecryc.com
SUMMARY:Pasta's Pasta & Martini Night
DESCRIPTION:
URL:https://carolinecryc.com/event/pastas-pasta-martini-night/
END:VEVENT
END:VCALENDAR